BEGIN:VCALENDAR
METHOD:PUBLISH
VERSION:2.0
CALSCALE:GREGORIAN
PRODID:-//NONSGML WPForms//NONSGML Sugar Calendar Feeds v3.10.0//EN
X-WR-CALNAME:FRÜHLINGS- UND KUNSTHANDWERKMARKT
X-WR-CALDESC:eschen-aktiv
X-WR-TIMEZONE:UTC
BEGIN:VTIMEZONE
TZID:UTC
BEGIN:STANDARD
TZOFFSETFROM:+0000
TZOFFSETTO:+0000
DTSTART:20250919T210000
TZNAME:UTC
END:STANDARD
END:VTIMEZONE
BEGIN:VTIMEZONE
TZID:UTC
BEGIN:STANDARD
TZOFFSETFROM:+0000
TZOFFSETTO:+0000
DTSTART:20250919T210000
TZNAME:UTC
END:STANDARD
END:VTIMEZONE
BEGIN:VEVENT
SUMMARY:FRÜHLINGS- UND KUNSTHANDWERKMARKT
DESCRIPTION:Es erwartet dich ein vielfältiges und umfangreiches Angebot
 . Für Verpflegung und Unterhaltung ist gesorgt.\n\nAUSKUNFT\nDaniela Ga
 lati\nT +423 789 30 03\n\ndaniela.galati@eschen-aktiv.li\n\n&nbsp\;
URL;VALUE=URI:https://eschen-aktiv.li/events/fruehlings-und-kunsthandwer
 kmarkt/
UID:urn:uuid:2a90bb36-6883-4bfb-a095-95a5adf9a88f
STATUS:CONFIRMED
ORGANIZER:
DTSTAMP:20260423T092045Z
DTSTART;TZID=UTC:20260321T090000
DTEND;TZID=UTC:20260321T160000
LOCATION:St. Luzistrasse 16
END:VEVENT
END:VCALENDAR